BEGIN:VCALENDAR
VERSION:2.0
PRODID:-//Stadtmarketing für Wetter e.V. - ECPv6.15.20//NONSGML v1.0//EN
CALSCALE:GREGORIAN
METHOD:PUBLISH
X-ORIGINAL-URL:https://www.stadtmarketing-wetter.de
X-WR-CALDESC:Veranstaltungen für Stadtmarketing für Wetter e.V.
REFRESH-INTERVAL;VALUE=DURATION:PT1H
X-Robots-Tag:noindex
X-PUBLISHED-TTL:PT1H
BEGIN:VTIMEZONE
TZID:Europe/Berlin
BEGIN:DAYLIGHT
TZOFFSETFROM:+0100
TZOFFSETTO:+0200
TZNAME:CEST
DTSTART:20250330T010000
END:DAYLIGHT
BEGIN:STANDARD
TZOFFSETFROM:+0200
TZOFFSETTO:+0100
TZNAME:CET
DTSTART:20251026T010000
END:STANDARD
BEGIN:DAYLIGHT
TZOFFSETFROM:+0100
TZOFFSETTO:+0200
TZNAME:CEST
DTSTART:20260329T010000
END:DAYLIGHT
BEGIN:STANDARD
TZOFFSETFROM:+0200
TZOFFSETTO:+0100
TZNAME:CET
DTSTART:20261025T010000
END:STANDARD
BEGIN:DAYLIGHT
TZOFFSETFROM:+0100
TZOFFSETTO:+0200
TZNAME:CEST
DTSTART:20270328T010000
END:DAYLIGHT
BEGIN:STANDARD
TZOFFSETFROM:+0200
TZOFFSETTO:+0100
TZNAME:CET
DTSTART:20271031T010000
END:STANDARD
END:VTIMEZONE
BEGIN:VEVENT
DTSTART;TZID=Europe/Berlin:20260809T140000
DTEND;TZID=Europe/Berlin:20260809T170000
DTSTAMP:20260423T124230
CREATED:20260311T112821Z
LAST-MODIFIED:20260311T134548Z
UID:11121-1786284000-1786294800@www.stadtmarketing-wetter.de
SUMMARY:Abenteuertag auf der Burg Volmarstein
DESCRIPTION:
URL:https://www.stadtmarketing-wetter.de/termin/abenteuertag-auf-der-burg-volmarstein/
LOCATION:Burgruine Volmarstein\, Am Vorberg 12\, Wetter (Ruhr)\, 58300
CATEGORIES:Besondere Angebote,Volmarstein
END:VEVENT
BEGIN:VEVENT
DTSTART;TZID=Europe/Berlin:20260905T140000
DTEND;TZID=Europe/Berlin:20260905T230000
DTSTAMP:20260423T124230
CREATED:20260311T112334Z
LAST-MODIFIED:20260318T114124Z
UID:11115-1788616800-1788649200@www.stadtmarketing-wetter.de
SUMMARY:Seefest
DESCRIPTION:
URL:https://www.stadtmarketing-wetter.de/termin/seefest-4/
LOCATION:Seeplatz & Gelände und Parkplatz Naturfreibad\, Gustav-Vorsteher-Straße\, Wetter (Ruhr)\, 58300\, Germany
CATEGORIES:Alt-Wetter,Feste
END:VEVENT
BEGIN:VEVENT
DTSTART;TZID=Europe/Berlin:20260906T100000
DTEND;TZID=Europe/Berlin:20260906T180000
DTSTAMP:20260423T124230
CREATED:20260311T140227Z
LAST-MODIFIED:20260318T114057Z
UID:11164-1788688800-1788717600@www.stadtmarketing-wetter.de
SUMMARY:Seefest
DESCRIPTION:
URL:https://www.stadtmarketing-wetter.de/termin/seefest-5/
LOCATION:Seeplatz & Gelände und Parkplatz Naturfreibad\, Gustav-Vorsteher-Straße\, Wetter (Ruhr)\, 58300\, Germany
CATEGORIES:Alt-Wetter,Feste
END:VEVENT
BEGIN:VEVENT
DTSTART;TZID=Europe/Berlin:20260913T103000
DTEND;TZID=Europe/Berlin:20260913T133000
DTSTAMP:20260423T124230
CREATED:20260311T113512Z
LAST-MODIFIED:20260311T134517Z
UID:11129-1789295400-1789306200@www.stadtmarketing-wetter.de
SUMMARY:Wanderung "Bergbauwanderweg I"
DESCRIPTION:
URL:https://www.stadtmarketing-wetter.de/termin/wanderung-auf-dem-bergbauwanderweg-i-2/
LOCATION:Grundschöttelerstraße / Ecke Am Stoppenberg\, Grundschöttelerstraße\, Wetter (Ruhr)\, 58300\, Germany
CATEGORIES:Volmarstein,Wanderungen
ATTACH;FMTTYPE=image/jpeg:https://www.stadtmarketing-wetter.de/wp-content/uploads/2023/02/IMG_6131-scaled.jpg
ORGANIZER;CN="Stadtmarketing f%C3%BCr Wetter e.V.":MAILTO:kontakt@stadtmarketing-wetter.de
END:VEVENT
BEGIN:VEVENT
DTSTART;TZID=Europe/Berlin:20260927T140000
DTEND;TZID=Europe/Berlin:20260927T170000
DTSTAMP:20260423T124230
CREATED:20260311T112011Z
LAST-MODIFIED:20260311T134255Z
UID:11103-1790517600-1790528400@www.stadtmarketing-wetter.de
SUMMARY:Stadtrundfahrt Thementour "Burgen & Herrenhäuser"
DESCRIPTION:
URL:https://www.stadtmarketing-wetter.de/termin/stadtrundfahrt-thementour-burgen-herrenhaeuser-2/
LOCATION:Bahnhof Alt-Wetter\, Bahnhofstraße 19\, Wetter (Ruhr)\, NRW\, 58300\, Deutschland
CATEGORIES:Sonderfahrten
END:VEVENT
BEGIN:VEVENT
DTSTART;TZID=Europe/Berlin:20261004T100000
DTEND;TZID=Europe/Berlin:20261004T150000
DTSTAMP:20260423T124230
CREATED:20260311T140657Z
LAST-MODIFIED:20260311T140657Z
UID:11170-1791108000-1791126000@www.stadtmarketing-wetter.de
SUMMARY:Wanderung "Burgruine Volmarstein"
DESCRIPTION:
URL:https://www.stadtmarketing-wetter.de/termin/wanderung-burgruine-volmarstein/
LOCATION:Bahnhof Alt-Wetter\, Bahnhofstraße 19\, Wetter (Ruhr)\, NRW\, 58300\, Deutschland
CATEGORIES:Volmarstein,Wanderungen
ORGANIZER;CN="Stadtmarketing f%C3%BCr Wetter e.V.":MAILTO:kontakt@stadtmarketing-wetter.de
END:VEVENT
BEGIN:VEVENT
DTSTART;TZID=Europe/Berlin:20261007T083000
DTEND;TZID=Europe/Berlin:20261007T110000
DTSTAMP:20260423T124230
CREATED:20260311T114830Z
LAST-MODIFIED:20260311T134200Z
UID:11150-1791361800-1791370800@www.stadtmarketing-wetter.de
SUMMARY:WETTER IM DIALOG zu Gast bei der SPARKASSE
DESCRIPTION:
URL:https://www.stadtmarketing-wetter.de/termin/wetter-im-dialog-zu-gast-bei-der-sparkasse/
LOCATION:Veranstaltungszentrum der Stadt Wetter (Ruhr)\, Bahnhofstraße 10\, Wetter (Ruhr\, NRW\, 58300\, Deutschland
CATEGORIES:Alt-Wetter
END:VEVENT
BEGIN:VEVENT
DTSTART;TZID=Europe/Berlin:20261011T133000
DTEND;TZID=Europe/Berlin:20261011T173000
DTSTAMP:20260423T124230
CREATED:20260311T112459Z
LAST-MODIFIED:20260311T112459Z
UID:11117-1791725400-1791739800@www.stadtmarketing-wetter.de
SUMMARY:Stadtrundfahrt Thema "Geschichte und Gegenwart der Stadt" mit Kaffee & Kuchen
DESCRIPTION:
URL:https://www.stadtmarketing-wetter.de/termin/stadtrundfahrt-thema-geschichte-und-gegenwart-der-stadt-mit-kaffee-kuchen/
LOCATION:Bahnhof Alt-Wetter\, Bahnhofstraße 19\, Wetter (Ruhr)\, NRW\, 58300\, Deutschland
CATEGORIES:Alt-Wetter,Esborn,Stadtrundfahrten,Volmarstein,Wengern
ATTACH;FMTTYPE=image/jpeg:https://www.stadtmarketing-wetter.de/wp-content/uploads/2022/08/DSC_7114_c.jpg
END:VEVENT
BEGIN:VEVENT
DTSTART;TZID=Europe/Berlin:20261019T140000
DTEND;TZID=Europe/Berlin:20261019T163000
DTSTAMP:20260423T124230
CREATED:20260311T111922Z
LAST-MODIFIED:20260311T134044Z
UID:11102-1792418400-1792427400@www.stadtmarketing-wetter.de
SUMMARY:Gummistiefel-Erlebnis Elbschebach
DESCRIPTION:  \n  \n 
URL:https://www.stadtmarketing-wetter.de/termin/gummistiefel-erlebnis-elbschebach-3/
LOCATION:Davidisplatz Wetter\, Trienendorfer Str. 8\, Wetter (Ruhr)\, NRW\, 58300\, Deutschland
CATEGORIES:Alt-Wetter,Besondere Angebote
END:VEVENT
BEGIN:VEVENT
DTSTART;TZID=Europe/Berlin:20261024T140000
DTEND;TZID=Europe/Berlin:20261024T170000
DTSTAMP:20260423T124230
CREATED:20260311T111708Z
LAST-MODIFIED:20260311T133956Z
UID:11101-1792850400-1792861200@www.stadtmarketing-wetter.de
SUMMARY:Stadtrundfahrt Thementour "Harkort"
DESCRIPTION:
URL:https://www.stadtmarketing-wetter.de/termin/stadtrundfahrt-thementour-harkort-2/
LOCATION:Bahnhof Alt-Wetter\, Bahnhofstraße 19\, Wetter (Ruhr)\, NRW\, 58300\, Deutschland
CATEGORIES:Sonderfahrten
END:VEVENT
BEGIN:VEVENT
DTSTART;TZID=Europe/Berlin:20261025T140000
DTEND;TZID=Europe/Berlin:20261025T163000
DTSTAMP:20260423T124230
CREATED:20260311T112105Z
LAST-MODIFIED:20260311T133842Z
UID:11104-1792936800-1792945800@www.stadtmarketing-wetter.de
SUMMARY:Wanderung Thema "Pilze"
DESCRIPTION:
URL:https://www.stadtmarketing-wetter.de/termin/wanderung-thema-pilze-4/
LOCATION:Wanderparkplatz Böllberg\, Am Sportplatz 6\, Wetter (Ruhr)\, NRW\, 58300\, Deutschland
CATEGORIES:Volmarstein,Wanderungen
ORGANIZER;CN="Stadtmarketing f%C3%BCr Wetter e.V.":MAILTO:kontakt@stadtmarketing-wetter.de
END:VEVENT
BEGIN:VEVENT
DTSTART;TZID=Europe/Berlin:20261031T170000
DTEND;TZID=Europe/Berlin:20261031T180000
DTSTAMP:20260423T124230
CREATED:20260311T111600Z
LAST-MODIFIED:20260311T133802Z
UID:11099-1793466000-1793469600@www.stadtmarketing-wetter.de
SUMMARY:Gruselführung an Halloween
DESCRIPTION:
URL:https://www.stadtmarketing-wetter.de/termin/gruselfuehrung-an-halloween-3/
LOCATION:Burg Volmarstein\, Burgberg 2-20\, Wetter\, NRW\, 58300\, Deutschland
CATEGORIES:Besondere Angebote,Volmarstein
END:VEVENT
BEGIN:VEVENT
DTSTART;TZID=Europe/Berlin:20261115T110000
DTEND;TZID=Europe/Berlin:20261115T140000
DTSTAMP:20260423T124230
CREATED:20260311T113252Z
LAST-MODIFIED:20260311T133724Z
UID:11127-1794740400-1794751200@www.stadtmarketing-wetter.de
SUMMARY:Lyrischer Spaziergang "Heinrich Heine auf dem Wanderweg Harkortberg"
DESCRIPTION:
URL:https://www.stadtmarketing-wetter.de/termin/lyrischer-spaziergang-heinrich-heine-auf-dem-wanderweg-harkortberg/
LOCATION:Parkplatz Harkortberg\, Harkortberg\, Wetter (Ruhr)\, NRW\, 58300\, Deutschland
CATEGORIES:Esborn,Wanderungen
END:VEVENT
BEGIN:VEVENT
DTSTART;TZID=Europe/Berlin:20261205T140000
DTEND;TZID=Europe/Berlin:20261205T220000
DTSTAMP:20260423T124230
CREATED:20260311T111513Z
LAST-MODIFIED:20260311T133612Z
UID:11098-1796479200-1796508000@www.stadtmarketing-wetter.de
SUMMARY:Weihnachtsmarkt 2026
DESCRIPTION:
URL:https://www.stadtmarketing-wetter.de/termin/weihnachtsmarkt-2026/
LOCATION:Rund um die Lutherkirche & Bismarckstraße\, Bismarckstraße\, Wetter (Ruhr)\, 58300\, Germany
ORGANIZER;CN="Stadt Wetter (Ruhr)":MAILTO:nicole.damaszek@stadt-wetter.de
END:VEVENT
BEGIN:VEVENT
DTSTART;TZID=Europe/Berlin:20261206T110000
DTEND;TZID=Europe/Berlin:20261206T180000
DTSTAMP:20260423T124230
CREATED:20260311T111427Z
LAST-MODIFIED:20260311T111427Z
UID:11097-1796554800-1796580000@www.stadtmarketing-wetter.de
SUMMARY:Weihnachtsmarkt 2026 in Alt-Wetter
DESCRIPTION:  \n 
URL:https://www.stadtmarketing-wetter.de/termin/weihnachtsmarkt-2026-in-alt-wetter/
LOCATION:Rund um die Lutherkirche & Bismarckstraße\, Bismarckstraße\, Wetter (Ruhr)\, 58300\, Germany
ORGANIZER;CN="Stadt Wetter (Ruhr)":MAILTO:nicole.damaszek@stadt-wetter.de
END:VEVENT
END:VCALENDAR